BEGIN:VCALENDAR
VERSION:2.0
PRODID:-//CDU-Kreisverband Harburg - ECPv6.15.20//NONSGML v1.0//EN
CALSCALE:GREGORIAN
METHOD:PUBLISH
X-WR-CALNAME:CDU-Kreisverband Harburg
X-ORIGINAL-URL:https://www.cdu-harburg.de
X-WR-CALDESC:Veranstaltungen für CDU-Kreisverband Harburg
REFRESH-INTERVAL;VALUE=DURATION:PT1H
X-Robots-Tag:noindex
X-PUBLISHED-TTL:PT1H
BEGIN:VTIMEZONE
TZID:Europe/Berlin
BEGIN:DAYLIGHT
TZOFFSETFROM:+0100
TZOFFSETTO:+0200
TZNAME:CEST
DTSTART:20220327T010000
END:DAYLIGHT
BEGIN:STANDARD
TZOFFSETFROM:+0200
TZOFFSETTO:+0100
TZNAME:CET
DTSTART:20221030T010000
END:STANDARD
BEGIN:DAYLIGHT
TZOFFSETFROM:+0100
TZOFFSETTO:+0200
TZNAME:CEST
DTSTART:20230326T010000
END:DAYLIGHT
BEGIN:STANDARD
TZOFFSETFROM:+0200
TZOFFSETTO:+0100
TZNAME:CET
DTSTART:20231029T010000
END:STANDARD
BEGIN:DAYLIGHT
TZOFFSETFROM:+0100
TZOFFSETTO:+0200
TZNAME:CEST
DTSTART:20240331T010000
END:DAYLIGHT
BEGIN:STANDARD
TZOFFSETFROM:+0200
TZOFFSETTO:+0100
TZNAME:CET
DTSTART:20241027T010000
END:STANDARD
BEGIN:DAYLIGHT
TZOFFSETFROM:+0100
TZOFFSETTO:+0200
TZNAME:CEST
DTSTART:20250330T010000
END:DAYLIGHT
BEGIN:STANDARD
TZOFFSETFROM:+0200
TZOFFSETTO:+0100
TZNAME:CET
DTSTART:20251026T010000
END:STANDARD
END:VTIMEZONE
BEGIN:VEVENT
DTSTART;TZID=Europe/Berlin:20240608T100000
DTEND;TZID=Europe/Berlin:20240608T120000
DTSTAMP:20260421T133620
CREATED:20240517T133026Z
LAST-MODIFIED:20240517T133026Z
UID:13873-1717840800-1717848000@www.cdu-harburg.de
SUMMARY:Info-Stand
DESCRIPTION:
URL:https://www.cdu-harburg.de/termin/info-stand-8/
LOCATION:Marktpassage Neugraben
END:VEVENT
BEGIN:VEVENT
DTSTART;TZID=Europe/Berlin:20240607T100000
DTEND;TZID=Europe/Berlin:20240607T130000
DTSTAMP:20260421T133620
CREATED:20240517T133525Z
LAST-MODIFIED:20240517T133525Z
UID:13886-1717754400-1717765200@www.cdu-harburg.de
SUMMARY:Info-Stand
DESCRIPTION:
URL:https://www.cdu-harburg.de/termin/info-stand-13/
LOCATION:Hanhoopsfeld
END:VEVENT
BEGIN:VEVENT
DTSTART;TZID=Europe/Berlin:20240606T100000
DTEND;TZID=Europe/Berlin:20240606T120000
DTSTAMP:20260421T133620
CREATED:20240517T132949Z
LAST-MODIFIED:20240517T132949Z
UID:13871-1717668000-1717675200@www.cdu-harburg.de
SUMMARY:Info-Stand
DESCRIPTION:
URL:https://www.cdu-harburg.de/termin/info-stand-7/
LOCATION:Marktpassage Neugraben
END:VEVENT
BEGIN:VEVENT
DTSTART;TZID=Europe/Berlin:20240601T100000
DTEND;TZID=Europe/Berlin:20240601T120000
DTSTAMP:20260421T133620
CREATED:20240517T133440Z
LAST-MODIFIED:20240517T133440Z
UID:13884-1717236000-1717243200@www.cdu-harburg.de
SUMMARY:Info-Stand
DESCRIPTION:
URL:https://www.cdu-harburg.de/termin/info-stand-12/
LOCATION:Sand
END:VEVENT
BEGIN:VEVENT
DTSTART;TZID=Europe/Berlin:20240601T100000
DTEND;TZID=Europe/Berlin:20240601T120000
DTSTAMP:20260421T133620
CREATED:20240517T132914Z
LAST-MODIFIED:20240517T132914Z
UID:13869-1717236000-1717243200@www.cdu-harburg.de
SUMMARY:Info-Stand
DESCRIPTION:
URL:https://www.cdu-harburg.de/termin/info-stand-6/
LOCATION:Marktpassage Neugraben
END:VEVENT
BEGIN:VEVENT
DTSTART;TZID=Europe/Berlin:20240531T100000
DTEND;TZID=Europe/Berlin:20240531T130000
DTSTAMP:20260421T133620
CREATED:20240517T133402Z
LAST-MODIFIED:20240517T133402Z
UID:13882-1717149600-1717160400@www.cdu-harburg.de
SUMMARY:Info-Stand
DESCRIPTION:
URL:https://www.cdu-harburg.de/termin/info-stand-11/
LOCATION:Hanhoopsfeld
END:VEVENT
BEGIN:VEVENT
DTSTART;TZID=Europe/Berlin:20240530T100000
DTEND;TZID=Europe/Berlin:20240530T120000
DTSTAMP:20260421T133620
CREATED:20240517T132835Z
LAST-MODIFIED:20240517T132835Z
UID:13867-1717063200-1717070400@www.cdu-harburg.de
SUMMARY:Info-Stand
DESCRIPTION:
URL:https://www.cdu-harburg.de/termin/info-stand-5/
LOCATION:Marktpassage Neugraben
END:VEVENT
BEGIN:VEVENT
DTSTART;TZID=Europe/Berlin:20240525T100000
DTEND;TZID=Europe/Berlin:20240525T120000
DTSTAMP:20260421T133620
CREATED:20240517T133324Z
LAST-MODIFIED:20240517T133324Z
UID:13879-1716631200-1716638400@www.cdu-harburg.de
SUMMARY:Info-Stand
DESCRIPTION:
URL:https://www.cdu-harburg.de/termin/info-stand-10/
LOCATION:Sand
END:VEVENT
BEGIN:VEVENT
DTSTART;TZID=Europe/Berlin:20240525T100000
DTEND;TZID=Europe/Berlin:20240525T120000
DTSTAMP:20260421T133620
CREATED:20240517T132751Z
LAST-MODIFIED:20240517T132751Z
UID:13865-1716631200-1716638400@www.cdu-harburg.de
SUMMARY:Info-Stand
DESCRIPTION:
URL:https://www.cdu-harburg.de/termin/info-stand-4/
LOCATION:Marktpassage Neugraben
END:VEVENT
BEGIN:VEVENT
DTSTART;TZID=Europe/Berlin:20240524T150000
DTEND;TZID=Europe/Berlin:20240524T170000
DTSTAMP:20260421T133620
CREATED:20240517T133237Z
LAST-MODIFIED:20240517T133237Z
UID:13877-1716562800-1716570000@www.cdu-harburg.de
SUMMARY:Info-Stand mit Dennis Thering MdHB
DESCRIPTION:
URL:https://www.cdu-harburg.de/termin/info-stand-mit-dennis-thering-mdhb-2/
LOCATION:Binnenhafen
END:VEVENT
BEGIN:VEVENT
DTSTART;TZID=Europe/Berlin:20240524T100000
DTEND;TZID=Europe/Berlin:20240524T130000
DTSTAMP:20260421T133620
CREATED:20240517T133154Z
LAST-MODIFIED:20240517T133154Z
UID:13875-1716544800-1716555600@www.cdu-harburg.de
SUMMARY:Info-Stand
DESCRIPTION:
URL:https://www.cdu-harburg.de/termin/info-stand-9/
LOCATION:Hanhoopsfeld
END:VEVENT
BEGIN:VEVENT
DTSTART;TZID=Europe/Berlin:20240523T100000
DTEND;TZID=Europe/Berlin:20240523T120000
DTSTAMP:20260421T133620
CREATED:20240517T132719Z
LAST-MODIFIED:20240517T132719Z
UID:13863-1716458400-1716465600@www.cdu-harburg.de
SUMMARY:Info-Stand
DESCRIPTION:
URL:https://www.cdu-harburg.de/termin/info-stand-3/
LOCATION:Marktpassage Neugraben
END:VEVENT
BEGIN:VEVENT
DTSTART;TZID=Europe/Berlin:20240518T100000
DTEND;TZID=Europe/Berlin:20240518T120000
DTSTAMP:20260421T133620
CREATED:20240517T132637Z
LAST-MODIFIED:20240517T132637Z
UID:13860-1716026400-1716033600@www.cdu-harburg.de
SUMMARY:Info-Stand
DESCRIPTION:
URL:https://www.cdu-harburg.de/termin/info-stand-2/
LOCATION:Marktpassage Neugraben
END:VEVENT
BEGIN:VEVENT
DTSTART;TZID=Europe/Berlin:20240517T140000
DTEND;TZID=Europe/Berlin:20240517T160000
DTSTAMP:20260421T133620
CREATED:20240517T132321Z
LAST-MODIFIED:20240517T132530Z
UID:13850-1715954400-1715961600@www.cdu-harburg.de
SUMMARY:Info-Stand mit Dennis Thering MdHB
DESCRIPTION:
URL:https://www.cdu-harburg.de/termin/info-stand-mit-dennis-thering-mdhb/
LOCATION:Binnenhafen
END:VEVENT
BEGIN:VEVENT
DTSTART;TZID=Europe/Berlin:20240517T100000
DTEND;TZID=Europe/Berlin:20240517T130000
DTSTAMP:20260421T133620
CREATED:20240517T132431Z
LAST-MODIFIED:20240517T132431Z
UID:13852-1715940000-1715950800@www.cdu-harburg.de
SUMMARY:Info-Stand
DESCRIPTION:
URL:https://www.cdu-harburg.de/termin/info-stand/
LOCATION:Hanhoopsfeld
END:VEVENT
BEGIN:VEVENT
DTSTART;VALUE=DATE:20231201
DTEND;VALUE=DATE:20231202
DTSTAMP:20260421T133620
CREATED:20231103T130352Z
LAST-MODIFIED:20231103T130422Z
UID:13577-1701388800-1701475199@www.cdu-harburg.de
SUMMARY:Berlin Tagesfahrt
DESCRIPTION:Treffpunkt: Vor dem Helmsmuseum/Harburger Theater (Knoopstraße)\num 6:45 Uhr
URL:https://www.cdu-harburg.de/termin/berlin-tagesfahrt/
END:VEVENT
BEGIN:VEVENT
DTSTART;TZID=Europe/Berlin:20231119T113000
DTEND;TZID=Europe/Berlin:20231119T113000
DTSTAMP:20260421T133620
CREATED:20231103T130702Z
LAST-MODIFIED:20231103T130702Z
UID:13585-1700393400-1700393400@www.cdu-harburg.de
SUMMARY:Volkstrauertag
DESCRIPTION:Treffpunkt: 11:30 Uhr auf dem neuen Friedhof
URL:https://www.cdu-harburg.de/termin/volkstrauertag/
END:VEVENT
BEGIN:VEVENT
DTSTART;TZID=Europe/Berlin:20231115T190000
DTEND;TZID=Europe/Berlin:20231115T190000
DTSTAMP:20260421T133620
CREATED:20231103T130523Z
LAST-MODIFIED:20231103T130620Z
UID:13581-1700074800-1700074800@www.cdu-harburg.de
SUMMARY:Grünkohlessen
DESCRIPTION:im Rönneburger Park\nSonstige Infos: 17 Euro Eintritt\, bis 10.11 per Telefon (040 760 222 8) oder auf www.IhreCDU.de
URL:https://www.cdu-harburg.de/termin/gruenkohlessen/
END:VEVENT
BEGIN:VEVENT
DTSTART;TZID=Europe/Berlin:20230816T190000
DTEND;TZID=Europe/Berlin:20230816T210000
DTSTAMP:20260421T133620
CREATED:20230419T074805Z
LAST-MODIFIED:20230419T074805Z
UID:13532-1692212400-1692219600@www.cdu-harburg.de
SUMMARY:Stammtisch im Vereinshaus des HTB
DESCRIPTION:
URL:https://www.cdu-harburg.de/termin/stammtisch-im-vereinshaus-des-htb-3/
LOCATION:Vereinshaus des HTB
END:VEVENT
BEGIN:VEVENT
DTSTART;TZID=Europe/Berlin:20230805T100000
DTEND;TZID=Europe/Berlin:20230805T120000
DTSTAMP:20260421T133621
CREATED:20230419T074721Z
LAST-MODIFIED:20230419T074721Z
UID:13530-1691229600-1691236800@www.cdu-harburg.de
SUMMARY:CDU-Info-Stand
DESCRIPTION:
URL:https://www.cdu-harburg.de/termin/cdu-info-stand-10/
LOCATION:Am Sand / Ecke Hölertwiete
END:VEVENT
BEGIN:VEVENT
DTSTART;TZID=Europe/Berlin:20230719T190000
DTEND;TZID=Europe/Berlin:20230719T210000
DTSTAMP:20260421T133621
CREATED:20230419T074630Z
LAST-MODIFIED:20230419T074630Z
UID:13528-1689793200-1689800400@www.cdu-harburg.de
SUMMARY:Stammtisch im Vereinshaus des HTB
DESCRIPTION:
URL:https://www.cdu-harburg.de/termin/stammtisch-im-vereinshaus-des-htb-2/
LOCATION:Vereinshaus des HTB
END:VEVENT
BEGIN:VEVENT
DTSTART;TZID=Europe/Berlin:20230713T190000
DTEND;TZID=Europe/Berlin:20230713T210000
DTSTAMP:20260421T133621
CREATED:20230711T151312Z
LAST-MODIFIED:20230711T151312Z
UID:13551-1689274800-1689282000@www.cdu-harburg.de
SUMMARY:OV-Abend
DESCRIPTION:
URL:https://www.cdu-harburg.de/termin/ov-abend/
LOCATION:Restaurant Pegasos\, Ehestorfer Weg 215\, 21075 Hamburg
END:VEVENT
BEGIN:VEVENT
DTSTART;TZID=Europe/Berlin:20230701T100000
DTEND;TZID=Europe/Berlin:20230701T120000
DTSTAMP:20260421T133621
CREATED:20230419T074534Z
LAST-MODIFIED:20230419T074534Z
UID:13526-1688205600-1688212800@www.cdu-harburg.de
SUMMARY:CDU-Info-Stand
DESCRIPTION:
URL:https://www.cdu-harburg.de/termin/cdu-info-stand-9/
LOCATION:Am Sand / Ecke Hölertwiete
END:VEVENT
BEGIN:VEVENT
DTSTART;TZID=Europe/Berlin:20230621T190000
DTEND;TZID=Europe/Berlin:20230621T210000
DTSTAMP:20260421T133621
CREATED:20230419T074438Z
LAST-MODIFIED:20230419T074438Z
UID:13523-1687374000-1687381200@www.cdu-harburg.de
SUMMARY:Stammtisch im Vereinshaus des HTB
DESCRIPTION:
URL:https://www.cdu-harburg.de/termin/stammtisch-im-vereinshaus-des-htb/
LOCATION:Vereinshaus des HTB
END:VEVENT
BEGIN:VEVENT
DTSTART;TZID=Europe/Berlin:20230607T111500
DTEND;TZID=Europe/Berlin:20230607T150000
DTSTAMP:20260421T133621
CREATED:20230419T074314Z
LAST-MODIFIED:20230421T074557Z
UID:13520-1686136500-1686150000@www.cdu-harburg.de
SUMMARY:Besuch der Hamburgerischen Bürgerschaft
DESCRIPTION:
URL:https://www.cdu-harburg.de/termin/besuch-der-hamburgerischen-buergerschaft/
LOCATION:In der Rathausdiele
END:VEVENT
BEGIN:VEVENT
DTSTART;TZID=Europe/Berlin:20230603T100000
DTEND;TZID=Europe/Berlin:20230603T120000
DTSTAMP:20260421T133621
CREATED:20230419T074028Z
LAST-MODIFIED:20230419T074028Z
UID:13518-1685786400-1685793600@www.cdu-harburg.de
SUMMARY:CDU-Info-Stand
DESCRIPTION:
URL:https://www.cdu-harburg.de/termin/cdu-info-stand-8/
LOCATION:Am Sand / Ecke Hölertwiete
END:VEVENT
BEGIN:VEVENT
DTSTART;TZID=Europe/Berlin:20230601T190000
DTEND;TZID=Europe/Berlin:20230601T210000
DTSTAMP:20260421T133621
CREATED:20230526T074619Z
LAST-MODIFIED:20230526T074619Z
UID:13535-1685646000-1685653200@www.cdu-harburg.de
SUMMARY:Was passiert nach Karstadt?
DESCRIPTION:
URL:https://www.cdu-harburg.de/termin/was-passiert-nach-karstadt/
LOCATION:Ehestorfer Weg 215\, 21075 Hamburg
END:VEVENT
BEGIN:VEVENT
DTSTART;TZID=Europe/Berlin:20230517T190000
DTEND;TZID=Europe/Berlin:20230517T210000
DTSTAMP:20260421T133621
CREATED:20230419T073918Z
LAST-MODIFIED:20230419T074114Z
UID:13516-1684350000-1684357200@www.cdu-harburg.de
SUMMARY:Stammtisch im Vereinshaus HTB
DESCRIPTION:
URL:https://www.cdu-harburg.de/termin/stammtisch-im-vereinshaus-htb/
END:VEVENT
BEGIN:VEVENT
DTSTART;TZID=Europe/Berlin:20230506T100000
DTEND;TZID=Europe/Berlin:20230506T120000
DTSTAMP:20260421T133621
CREATED:20230208T084639Z
LAST-MODIFIED:20230208T084639Z
UID:13456-1683367200-1683374400@www.cdu-harburg.de
SUMMARY:CDU-Info-Stand
DESCRIPTION:
URL:https://www.cdu-harburg.de/termin/cdu-info-stand-4/
LOCATION:Am Sand / Ecke Hölertwiete
END:VEVENT
BEGIN:VEVENT
DTSTART;TZID=Europe/Berlin:20230419T190000
DTEND;TZID=Europe/Berlin:20230419T223000
DTSTAMP:20260421T133621
CREATED:20230208T084552Z
LAST-MODIFIED:20230208T084552Z
UID:13454-1681930800-1681943400@www.cdu-harburg.de
SUMMARY:Stammtisch im Restaurant Kaiserlich
DESCRIPTION:
URL:https://www.cdu-harburg.de/termin/stammtisch-im-restaurant-kaiserlich-3/
LOCATION:Restaurant Kaiserlich\, Schwarzenbergstraße 80\, Harburg
END:VEVENT
END:VCALENDAR